BEGIN:VCALENDAR
VERSION:2.0
PRODID:-//Melbourne Montessori College Parents&#039; Hub - ECPv6.15.20//NONSGML v1.0//EN
CALSCALE:GREGORIAN
METHOD:PUBLISH
X-ORIGINAL-URL:https://parents.mmc.vic.edu.au
X-WR-CALDESC:Events for Melbourne Montessori College Parents&#039; Hub
REFRESH-INTERVAL;VALUE=DURATION:PT1H
X-Robots-Tag:noindex
X-PUBLISHED-TTL:PT1H
BEGIN:VTIMEZONE
TZID:Australia/Sydney
BEGIN:STANDARD
TZOFFSETFROM:+1100
TZOFFSETTO:+1000
TZNAME:AEST
DTSTART:20250405T160000
END:STANDARD
BEGIN:DAYLIGHT
TZOFFSETFROM:+1000
TZOFFSETTO:+1100
TZNAME:AEDT
DTSTART:20251004T160000
END:DAYLIGHT
BEGIN:STANDARD
TZOFFSETFROM:+1100
TZOFFSETTO:+1000
TZNAME:AEST
DTSTART:20260404T160000
END:STANDARD
BEGIN:DAYLIGHT
TZOFFSETFROM:+1000
TZOFFSETTO:+1100
TZNAME:AEDT
DTSTART:20261003T160000
END:DAYLIGHT
BEGIN:STANDARD
TZOFFSETFROM:+1100
TZOFFSETTO:+1000
TZNAME:AEST
DTSTART:20270403T160000
END:STANDARD
BEGIN:DAYLIGHT
TZOFFSETFROM:+1000
TZOFFSETTO:+1100
TZNAME:AEDT
DTSTART:20271002T160000
END:DAYLIGHT
END:VTIMEZONE
BEGIN:VEVENT
DTSTART;TZID=Australia/Sydney:20260429T090000
DTEND;TZID=Australia/Sydney:20260429T103000
DTSTAMP:20260424T181826
CREATED:20260421T014653Z
LAST-MODIFIED:20260424T081740Z
UID:10000821-1777453200-1777458600@parents.mmc.vic.edu.au
SUMMARY:Parent Education Session: Language and Writing at MMC
DESCRIPTION:Dear Parents and Guardians\,\nWe are pleased to announce our first Parent Education Session to be held at Caulfield Campus for 2026: Language and Writing at MMC and warmly invite all junior school parents and guardians\, from 3-year-old Kinder to Year 6\, to attend.\nDuring this session we will take a practical look at how children learn to write within a Montessori classroom.  We’ll cover key ideas and concepts such as phonemic awareness\, spelling patterns\, and the development of both structured and creative writing across the different Cycles\, plus more.\nIn addition\, you will also learn how these methods support each individual child’s independence and confidence and how they help develop your child’s love of language.\nWhether these terms are new or familiar to you\, this is a great opportunity to find out more!\nEvent details\nDate: Wednesday 29th April\nLocation: Caulfield Campus\nSession times:\n  *   9.00 am – 10.30 am\n  *   6.00 pm – 7.30 pm\nPlease register to attend the session that best suits your availability: https://www.trybooking.com/DLNWG\nAlso\, save the date for our Mathematics session to be run in Term 3 on Wednesday 29th July!\nWe look forward to seeing you there.
URL:https://parents.mmc.vic.edu.au/event/parent-education-session-language-and-writing-at-mmc/
LOCATION:Caulfield Campus
END:VEVENT
BEGIN:VEVENT
DTSTART;TZID=Australia/Sydney:20260429T180000
DTEND;TZID=Australia/Sydney:20260429T193000
DTSTAMP:20260424T181826
CREATED:20260421T015502Z
LAST-MODIFIED:20260424T081740Z
UID:10000822-1777485600-1777491000@parents.mmc.vic.edu.au
SUMMARY:Parent Education Session: Language and Writing at MMC
DESCRIPTION:Dear Parents and Guardians\,\nWe are pleased to announce our first Parent Education Session to be held at Caulfield Campus for 2026: Language and Writing at MMC and warmly invite all junior school parents and guardians\, from 3-year-old Kinder to Year 6\, to attend.\nDuring this session we will take a practical look at how children learn to write within a Montessori classroom.  We’ll cover key ideas and concepts such as phonemic awareness\, spelling patterns\, and the development of both structured and creative writing across the different Cycles\, plus more.\nIn addition\, you will also learn how these methods support each individual child’s independence and confidence and how they help develop your child’s love of language.\nWhether these terms are new or familiar to you\, this is a great opportunity to find out more!\nEvent details\nDate: Wednesday 29th April\nLocation: Caulfield Campus\nSession times:\n  *   9.00 am – 10.30 am\n  *   6.00 pm – 7.30 pm\nPlease register to attend the session that best suits your availability: https://www.trybooking.com/DLNWG\nAlso\, save the date for our Mathematics session to be run in Term 3 on Wednesday 29th July!\nWe look forward to seeing you there.
URL:https://parents.mmc.vic.edu.au/event/parent-education-session-language-and-writing-at-mmc-2/
LOCATION:Caulfield Campus
END:VEVENT
BEGIN:VEVENT
DTSTART;VALUE=DATE:20260506
DTEND;VALUE=DATE:20260507
DTSTAMP:20260424T181826
CREATED:20260305T003701Z
LAST-MODIFIED:20260424T081801Z
UID:10000793-1778025600-1778111999@parents.mmc.vic.edu.au
SUMMARY:Cycle 2 Incursion - Fantastic Fossils
DESCRIPTION:
URL:https://parents.mmc.vic.edu.au/event/cycle-2-incursion-fantastic-fossils/
LOCATION:Caulfield Campus
END:VEVENT
BEGIN:VEVENT
DTSTART;TZID=Australia/Sydney:20260508T083000
DTEND;TZID=Australia/Sydney:20260508T100000
DTSTAMP:20260424T181826
CREATED:20260330T230955Z
LAST-MODIFIED:20260424T081802Z
UID:10000811-1778229000-1778234400@parents.mmc.vic.edu.au
SUMMARY:Mother's and Special Friend's Day
DESCRIPTION:
URL:https://parents.mmc.vic.edu.au/event/mothers-and-special-friends-day/
LOCATION:Caulfield Campus
END:VEVENT
BEGIN:VEVENT
DTSTART;TZID=Australia/Sydney:20260604T083000
DTEND;TZID=Australia/Sydney:20260604T100000
DTSTAMP:20260424T181826
CREATED:20260330T234410Z
LAST-MODIFIED:20260424T081451Z
UID:10000814-1780561800-1780567200@parents.mmc.vic.edu.au
SUMMARY:Grandparent's Day
DESCRIPTION:
URL:https://parents.mmc.vic.edu.au/event/grandparents-day-2/
LOCATION:Caulfield Campus
END:VEVENT
BEGIN:VEVENT
DTSTART;VALUE=DATE:20260828
DTEND;VALUE=DATE:20260829
DTSTAMP:20260424T181826
CREATED:20250903T044859Z
LAST-MODIFIED:20260424T055335Z
UID:10000486-1787875200-1787961599@parents.mmc.vic.edu.au
SUMMARY:Cycle 1\, 2 & 3 Book Week Parade
DESCRIPTION:
URL:https://parents.mmc.vic.edu.au/event/cycle-1-2-3-book-week-parade/
LOCATION:Caulfield Campus
END:VEVENT
END:VCALENDAR