BEGIN:VCALENDAR
VERSION:2.0
PRODID:-//Melbourne Montessori College Parents&#039; Hub - ECPv6.15.20//NONSGML v1.0//EN
CALSCALE:GREGORIAN
METHOD:PUBLISH
X-ORIGINAL-URL:https://parents.mmc.vic.edu.au
X-WR-CALDESC:Events for Melbourne Montessori College Parents&#039; Hub
REFRESH-INTERVAL;VALUE=DURATION:PT1H
X-Robots-Tag:noindex
X-PUBLISHED-TTL:PT1H
BEGIN:VTIMEZONE
TZID:Australia/Sydney
BEGIN:STANDARD
TZOFFSETFROM:+1100
TZOFFSETTO:+1000
TZNAME:AEST
DTSTART:20250405T160000
END:STANDARD
BEGIN:DAYLIGHT
TZOFFSETFROM:+1000
TZOFFSETTO:+1100
TZNAME:AEDT
DTSTART:20251004T160000
END:DAYLIGHT
BEGIN:STANDARD
TZOFFSETFROM:+1100
TZOFFSETTO:+1000
TZNAME:AEST
DTSTART:20260404T160000
END:STANDARD
BEGIN:DAYLIGHT
TZOFFSETFROM:+1000
TZOFFSETTO:+1100
TZNAME:AEDT
DTSTART:20261003T160000
END:DAYLIGHT
BEGIN:STANDARD
TZOFFSETFROM:+1100
TZOFFSETTO:+1000
TZNAME:AEST
DTSTART:20270403T160000
END:STANDARD
BEGIN:DAYLIGHT
TZOFFSETFROM:+1000
TZOFFSETTO:+1100
TZNAME:AEDT
DTSTART:20271002T160000
END:DAYLIGHT
END:VTIMEZONE
BEGIN:VEVENT
DTSTART;VALUE=DATE:20260527
DTEND;VALUE=DATE:20260528
DTSTAMP:20260422T181911
CREATED:20260311T221806Z
LAST-MODIFIED:20260422T081148Z
UID:10000797-1779840000-1779926399@parents.mmc.vic.edu.au
SUMMARY:Cycle 3 iSea iCare - Peer Teaching workshop.
DESCRIPTION:
URL:https://parents.mmc.vic.edu.au/event/cycle-3-isea-icare-peer-teaching-workshop/
LOCATION:Sandringham East Primary School (9 Holloway Rd\, Melbourne Victoria 3191\, Australia)
END:VEVENT
END:VCALENDAR