BEGIN:VCALENDAR
VERSION:2.0
PRODID:-//Melbourne Montessori College Parents&#039; Hub - ECPv6.15.20//NONSGML v1.0//EN
CALSCALE:GREGORIAN
METHOD:PUBLISH
X-WR-CALNAME:Melbourne Montessori College Parents&#039; Hub
X-ORIGINAL-URL:https://parents.mmc.vic.edu.au
X-WR-CALDESC:Events for Melbourne Montessori College Parents&#039; Hub
REFRESH-INTERVAL;VALUE=DURATION:PT1H
X-Robots-Tag:noindex
X-PUBLISHED-TTL:PT1H
BEGIN:VTIMEZONE
TZID:Australia/Sydney
BEGIN:STANDARD
TZOFFSETFROM:+1100
TZOFFSETTO:+1000
TZNAME:AEST
DTSTART:20240406T160000
END:STANDARD
BEGIN:DAYLIGHT
TZOFFSETFROM:+1000
TZOFFSETTO:+1100
TZNAME:AEDT
DTSTART:20241005T160000
END:DAYLIGHT
BEGIN:STANDARD
TZOFFSETFROM:+1100
TZOFFSETTO:+1000
TZNAME:AEST
DTSTART:20250405T160000
END:STANDARD
BEGIN:DAYLIGHT
TZOFFSETFROM:+1000
TZOFFSETTO:+1100
TZNAME:AEDT
DTSTART:20251004T160000
END:DAYLIGHT
BEGIN:STANDARD
TZOFFSETFROM:+1100
TZOFFSETTO:+1000
TZNAME:AEST
DTSTART:20260404T160000
END:STANDARD
BEGIN:DAYLIGHT
TZOFFSETFROM:+1000
TZOFFSETTO:+1100
TZNAME:AEDT
DTSTART:20261003T160000
END:DAYLIGHT
END:VTIMEZONE
BEGIN:VEVENT
DTSTART;TZID=Australia/Sydney:20250819T110000
DTEND;TZID=Australia/Sydney:20250819T153000
DTSTAMP:20260422T191638
CREATED:20250806T063618Z
LAST-MODIFIED:20250819T051834Z
UID:10000446-1755601200-1755617400@parents.mmc.vic.edu.au
SUMMARY:Cycle 4\, 5 & Yr 11 - Cafe Excursion for Hospitality & Business
DESCRIPTION:Hospitality Occupations\nAs part of our Hospitality Occupations program\, Cycle 4 and 5 students will be attending an excursion to The Corner Store Network in Oakleigh on Tuesday\, 19 August 2025. This experience will offer students a hands-on insight into café operations and ethical food practices.\nIf you have any questions\, feel free to contact Laura Bonne at laurab@mms.vic.edu.au.\nBusiness\nAs part of our Year 11 Business Management program\, students will be attending an excursion to The Corner Store Network in Oakleigh on Tuesday\, 19 August 2025. This experience will provide valuable insights into running a social enterprise and support students in preparing for their upcoming examination.
URL:https://parents.mmc.vic.edu.au/event/cycle-4-5-cafe-excursion-for-hospitality-occupations/
LOCATION:The Corner Store Network (30 Hamilton Street\, Oakleigh Victoria 3166\, Australia)
END:VEVENT
END:VCALENDAR